BEGIN:VCALENDAR
VERSION:2.0
PRODID:-//Australian Federation of Medical Women - ECPv6.15.20//NONSGML v1.0//EN
CALSCALE:GREGORIAN
METHOD:PUBLISH
X-ORIGINAL-URL:https://afmw.org.au
X-WR-CALDESC:Events for Australian Federation of Medical Women
REFRESH-INTERVAL;VALUE=DURATION:PT1H
X-Robots-Tag:noindex
X-PUBLISHED-TTL:PT1H
BEGIN:VTIMEZONE
TZID:Australia/Brisbane
BEGIN:STANDARD
TZOFFSETFROM:+1000
TZOFFSETTO:+1000
TZNAME:AEST
DTSTART:20230101T000000
END:STANDARD
END:VTIMEZONE
BEGIN:VEVENT
DTSTART;TZID=Australia/Brisbane:20240424T200000
DTEND;TZID=Australia/Brisbane:20240424T210000
DTSTAMP:20260426T002638
CREATED:20240412T043819Z
LAST-MODIFIED:20240422T081342Z
UID:139102-1713988800-1713992400@afmw.org.au
SUMMARY:President's Chat with Prof Manjula O'Connor - 24 April
DESCRIPTION:AFMW President\, Dr Coll is interviewing Prof Manjula O’Connor on the 24th of April at 8pm. AFMW members and non-members are invited to attend this Zoom session. \n  \nAbout Prof Manjula O’Connor\n\nProfessor Manjula Datta O’Connor is an Indian-born award winning  psychiatrist\, author\, researcher\, reviewer\, teacher and campaigner\, community leader\, changemaker\, advocate with special interest in migrant women’s mental health\, complex trauma and family violence.\n\nShe is Hon Clinical Associate Professor at the Department of Psychiatry University of Melbourne. Adjunct Professor at University of New South Wales. She is an ambassador for Full Stop Australia.\n\n​Her new book\, Daughters of Durga\, draws on her research and clinical experience. It introduces readers to the complexities of family violence as experienced by South Asian migrant women in Australia\, with a primary focus on Indian women. \n  \nMeeting Details\nDate: Wed 24 April 2024 \nTime: 8pm \nLocation: Zoom \nRegister: Register to attend the Zoom meeting \n  \n AFMWThe Australian Federation of Medical Women (AFMW) is a not for profit\, politically neutral\, non sectarian\, non government organisation that seeks to improve the health of all Australians\, especially the health of women and children. \nEvents and Updates coordination by AFMW\, on behalf of the Australian Federation of Medical Women (AFMW)\, its affiliated Australian state and territory partners and international networks and supporters. If you have an update or event you would like to share with us for Australian medical women\, please contact us with details. Thank you.
URL:https://afmw.org.au/event/afmw-president-interviews-prof-manjula-oconnor/
LOCATION:On-line / Zoom
CATEGORIES:AFMW Hosted,Spotlight Series
ATTACH;FMTTYPE=image/jpeg:https://afmw.org.au/wp-content/uploads/2024/03/afmw-presidents-chat-24-04-24.jpg
ORGANIZER;CN="AFMW":MAILTO:afmw@afmw.org.au
END:VEVENT
END:VCALENDAR