BEGIN:VCALENDAR
VERSION:2.0
PRODID:-//Australian Federation of Medical Women - ECPv6.15.20//NONSGML v1.0//EN
CALSCALE:GREGORIAN
METHOD:PUBLISH
X-ORIGINAL-URL:https://afmw.org.au
X-WR-CALDESC:Events for Australian Federation of Medical Women
REFRESH-INTERVAL;VALUE=DURATION:PT1H
X-Robots-Tag:noindex
X-PUBLISHED-TTL:PT1H
BEGIN:VTIMEZONE
TZID:Australia/Melbourne
BEGIN:STANDARD
TZOFFSETFROM:+1100
TZOFFSETTO:+1000
TZNAME:AEST
DTSTART:20230401T160000
END:STANDARD
BEGIN:DAYLIGHT
TZOFFSETFROM:+1000
TZOFFSETTO:+1100
TZNAME:AEDT
DTSTART:20230930T160000
END:DAYLIGHT
BEGIN:STANDARD
TZOFFSETFROM:+1100
TZOFFSETTO:+1000
TZNAME:AEST
DTSTART:20240406T160000
END:STANDARD
BEGIN:DAYLIGHT
TZOFFSETFROM:+1000
TZOFFSETTO:+1100
TZNAME:AEDT
DTSTART:20241005T160000
END:DAYLIGHT
BEGIN:STANDARD
TZOFFSETFROM:+1100
TZOFFSETTO:+1000
TZNAME:AEST
DTSTART:20250405T160000
END:STANDARD
BEGIN:DAYLIGHT
TZOFFSETFROM:+1000
TZOFFSETTO:+1100
TZNAME:AEDT
DTSTART:20251004T160000
END:DAYLIGHT
END:VTIMEZONE
BEGIN:VEVENT
DTSTART;TZID=Australia/Melbourne:20241204T200000
DTEND;TZID=Australia/Melbourne:20241204T200000
DTSTAMP:20260424T233728
CREATED:20241120T043435Z
LAST-MODIFIED:20241121T011309Z
UID:140521-1733342400-1733342400@afmw.org.au
SUMMARY:Spotlight Series - A Chat with Assoc Prof Louise Stone - 4 Dec 2024
DESCRIPTION:AFMW is chatting with Associate Professor Louise Stone. The online session will be held 8pm AEDT Wednesday 4 December 2024. AFMW members and non-members are invited to attend this Zoom session. \n  \nAbout Associate Professor Louise Stone\nLouise is a general practitioner with clinical\, research\, education and policy expertise in mental health. She is an Associate Professor in the Social Foundations of Medicine group at the ANU Medical School. \nHer current research projects include a longitudinal\, collaborative youth mental health project\, exploring the journeys of young people around the ACT mental health system\, and a translational international collaboration exploring the experience and policy responses to sexual harms between doctors. \nHer latest book – Sexual harassment of doctors by doctors: International perspectives\, experiences\, and responses – is due to be published soon. \n  \n  \nMeeting Details\nDate: Wed 4 December 2024 \nTime: 8pm AEDT \nLocation / Register: Via Zoom\, register here (After registering\, you will receive a confirmation email containing information about joining the meeting.) \n  \n AFMWThe Australian Federation of Medical Women (AFMW) is a not for profit\, politically neutral\, non sectarian\, non government organisation that seeks to improve the health of all Australians\, especially the health of women and children. \nEvents and Updates coordination by AFMW\, on behalf of the Australian Federation of Medical Women (AFMW)\, its affiliated Australian state and territory partners and international networks and supporters. If you have an update or event you would like to share with us for Australian medical women\, please contact us with details. Thank you.
URL:https://afmw.org.au/event/spotlight-series-a-chat-with-assoc-prof-louise-stone-4-dec-2024/
LOCATION:On-line / Zoom
CATEGORIES:AFMW Hosted,Spotlight Series
ATTACH;FMTTYPE=image/jpeg:https://afmw.org.au/wp-content/uploads/2024/11/spotlight-chat-assoc-prof-stone-4-dec-2024.jpg
ORGANIZER;CN="AFMW":MAILTO:afmw@afmw.org.au
END:VEVENT
END:VCALENDAR