BEGIN:VCALENDAR
VERSION:2.0
PRODID:-//Australian Federation of Medical Women - ECPv6.15.20//NONSGML v1.0//EN
CALSCALE:GREGORIAN
METHOD:PUBLISH
X-WR-CALNAME:Australian Federation of Medical Women
X-ORIGINAL-URL:https://afmw.org.au
X-WR-CALDESC:Events for Australian Federation of Medical Women
REFRESH-INTERVAL;VALUE=DURATION:PT1H
X-Robots-Tag:noindex
X-PUBLISHED-TTL:PT1H
BEGIN:VTIMEZONE
TZID:Australia/Sydney
BEGIN:STANDARD
TZOFFSETFROM:+1100
TZOFFSETTO:+1000
TZNAME:AEST
DTSTART:20240406T160000
END:STANDARD
BEGIN:DAYLIGHT
TZOFFSETFROM:+1000
TZOFFSETTO:+1100
TZNAME:AEDT
DTSTART:20241005T160000
END:DAYLIGHT
BEGIN:STANDARD
TZOFFSETFROM:+1100
TZOFFSETTO:+1000
TZNAME:AEST
DTSTART:20250405T160000
END:STANDARD
BEGIN:DAYLIGHT
TZOFFSETFROM:+1000
TZOFFSETTO:+1100
TZNAME:AEDT
DTSTART:20251004T160000
END:DAYLIGHT
BEGIN:STANDARD
TZOFFSETFROM:+1100
TZOFFSETTO:+1000
TZNAME:AEST
DTSTART:20260404T160000
END:STANDARD
BEGIN:DAYLIGHT
TZOFFSETFROM:+1000
TZOFFSETTO:+1100
TZNAME:AEDT
DTSTART:20261003T160000
END:DAYLIGHT
END:VTIMEZONE
BEGIN:VEVENT
DTSTART;TZID=Australia/Sydney:20250205T200000
DTEND;TZID=Australia/Sydney:20250205T210000
DTSTAMP:20260424T155516
CREATED:20250128T035121Z
LAST-MODIFIED:20250207T073238Z
UID:140083-1738785600-1738789200@afmw.org.au
SUMMARY:Spotlight Series - A Chat with Dr James Allen -  5 Feb 2025
DESCRIPTION:Watch the Chat Recap Video >>\n  \n\nAFMW is interviewing Dr James Allen\, founder of an Australian LGBTIQ youth harm prevention charity The Orbona Foundation\, on Wed 5 Feb 2025 at 8pm AEDT. AFMW members and non-members are invited to attend this Zoom session. \n  \nAbout Dr James Allen\nJames Allen completed bachelors degrees in medicine\, surgery and law at Monash in 2004. He is a Fellow of the Australasian College of Legal Medicine\, the Royal Australian College of General Practitioners and an Associate Fellow of the College of Health Services Managers. \nFollowing the suicides of two of his young LGBTIQASB+ patients in 2021\, he founded The Orbona Foundation\, a not-for-profit organisation to advance the welfare of LGBTIQASB+ children and youth. The foundation takes its name from Roman mythology in which Orbona was the goddess of abandoned children. \nJames is passionate about improving the education of medical practitioners and working with new and expecting parents to prevent unintentional harm to LGBTIQASB+ children that can occur before a parent is aware of their child’s diverse identity. In 2023 his work demonstrated that 24% of the GP workforce in Australia obtained their primary medical qualification in a country that criminalises homosexuality and raises awareness of the need to support all medical practitioners to identify and address knowledge gaps and unconscious bias through the provision of evidence based medical information. He advocates for universal competence across all health practitioner craft groups. \nJames is a member of Council for AMA Queensland and the views expressed are not necessarily the views of AMA Queensland. \n[Source: Australian Association of Psychologists] \n  \n\n  \nMeeting Details\nDate: Wednesday 5 Feb 2025 \nTime: 8pm AEDT / 7pm AEST \nLocation : Via Zoom\, meeting link is here \n AFMWThe Australian Federation of Medical Women (AFMW) is a not for profit\, politically neutral\, non sectarian\, non government organisation that seeks to improve the health of all Australians\, especially the health of women and children. \nEvents and Updates coordination by AFMW\, on behalf of the Australian Federation of Medical Women (AFMW)\, its affiliated Australian state and territory partners and international networks and supporters. If you have an update or event you would like to share with us for Australian medical women\, please contact us with details. Thank you.
URL:https://afmw.org.au/event/spotlight-chat-with-dr-james-allen-new-date-5-feb-2025/
LOCATION:On-line / Zoom
CATEGORIES:AFMW Hosted,Spotlight Series
ATTACH;FMTTYPE=image/jpeg:https://afmw.org.au/wp-content/uploads/2025/01/spotlight-chat-with-dr-allen-5-feb-2025.jpg
ORGANIZER;CN="AFMW":MAILTO:afmw@afmw.org.au
END:VEVENT
END:VCALENDAR