BEGIN:VCALENDAR
VERSION:2.0
PRODID:-//Australian Federation of Medical Women - ECPv6.15.20//NONSGML v1.0//EN
CALSCALE:GREGORIAN
METHOD:PUBLISH
X-ORIGINAL-URL:https://afmw.org.au
X-WR-CALDESC:Events for Australian Federation of Medical Women
REFRESH-INTERVAL;VALUE=DURATION:PT1H
X-Robots-Tag:noindex
X-PUBLISHED-TTL:PT1H
BEGIN:VTIMEZONE
TZID:Australia/Brisbane
BEGIN:STANDARD
TZOFFSETFROM:+1000
TZOFFSETTO:+1000
TZNAME:AEST
DTSTART:20230101T000000
END:STANDARD
END:VTIMEZONE
BEGIN:VEVENT
DTSTART;TZID=Australia/Brisbane:20240612T190000
DTEND;TZID=Australia/Brisbane:20240612T200000
DTSTAMP:20260425T212910
CREATED:20240602T025948Z
LAST-MODIFIED:20240606T010923Z
UID:139124-1718218800-1718222400@afmw.org.au
SUMMARY:President's Chat with Prof Caroline DeCosta - 12 June
DESCRIPTION:AFMW President\, Dr Coll is interviewing Prof Caroline de Costa on the 12th of June at 7pm. AFMW members and non-members are invited to attend this Zoom session. \n  \nAbout Prof Caroline de Costa\nCaroline de Costa is Professor of Obstetrics and Gynaecology of the College of Medicine at James Cook University\, Cairns Campus in North Queensland\, Australia. Caroline has 42 years’ experience in the practice of obstetrics and 40 years in the area of obstetrics research\, in particular obstetric epidemiology. She practised as a specialist obstetrician and gynaecologist for 35 years. \nCaroline was born and educated in Sydney and later studied medicine at the Royal College of Surgeons in Ireland\, in Dublin\, graduating MB BS (London University) and LRCP&SI in 1973. \nAfter completing residency in Port Moresby General Hospital\, Papua-New Guinea\, she returned to Ireland and undertook specialist training there and in the United Kingdom. In 1980 Caroline returned to Port Moresby for a further 18 months as Senior Registrar before moving back to Sydney where she spent 17 years in private practice. \nIn 1999 she moved to Cairns and took up her present appointment in 2004. \nRead more about Prof Caroline de Costa on the JCA website. \n  \nMeeting Details\nDate: Wed 12 June 2024 \nTime: 7pm \nLocation / Join: Zoom (Join the Zoom meeting on the evening) \n  \n AFMWThe Australian Federation of Medical Women (AFMW) is a not for profit\, politically neutral\, non sectarian\, non government organisation that seeks to improve the health of all Australians\, especially the health of women and children. \nEvents and Updates coordination by AFMW\, on behalf of the Australian Federation of Medical Women (AFMW)\, its affiliated Australian state and territory partners and international networks and supporters. If you have an update or event you would like to share with us for Australian medical women\, please contact us with details. Thank you.
URL:https://afmw.org.au/event/presidents-chat-with-prof-caroline-decosta-12-june/
LOCATION:On-line / Zoom
CATEGORIES:AFMW Hosted,Spotlight Series
ATTACH;FMTTYPE=image/jpeg:https://afmw.org.au/wp-content/uploads/2024/03/presidents-chat-12.06.24.jpg
ORGANIZER;CN="AFMW":MAILTO:afmw@afmw.org.au
END:VEVENT
END:VCALENDAR