BEGIN:VCALENDAR
VERSION:2.0
PRODID:-//Australian Federation of Medical Women - ECPv6.15.20//NONSGML v1.0//EN
CALSCALE:GREGORIAN
METHOD:PUBLISH
X-ORIGINAL-URL:https://afmw.org.au
X-WR-CALDESC:Events for Australian Federation of Medical Women
REFRESH-INTERVAL;VALUE=DURATION:PT1H
X-Robots-Tag:noindex
X-PUBLISHED-TTL:PT1H
BEGIN:VTIMEZONE
TZID:Australia/Brisbane
BEGIN:STANDARD
TZOFFSETFROM:+1000
TZOFFSETTO:+1000
TZNAME:AEST
DTSTART:20230101T000000
END:STANDARD
END:VTIMEZONE
BEGIN:VEVENT
DTSTART;TZID=Australia/Brisbane:20241009T190000
DTEND;TZID=Australia/Brisbane:20241009T200000
DTSTAMP:20260425T212941
CREATED:20241001T044900Z
LAST-MODIFIED:20241003T045357Z
UID:140087-1728500400-1728504000@afmw.org.au
SUMMARY:Spotlight on Young AFMW - A Chat with Dr Marissa Daniels - 9 October
DESCRIPTION:AFMW is interviewing Dr Marissa Daniels (MBBS\, BMedSc) on the 9th October at 7pm. AFMW members and non-members are invited to attend this Zoom session. \n  \nAbout Dr Marissa Daniels (MBBS\, BMedSc)\n\nUQ Research Student studying emerging technologies for molecular profiling of lung cancer\nImmediate past Co-Chair Young Australian Federation of Medical Women\nPast Treasurer Australian Federation of Medical Women\nPast Joint Medical Women’s International Association (MWIA) Webmistress\n\nMarissa is currently based in Queensland\, Australia. She has extensive experience working in a variety of regional and metropolitan hospitals as a paediatric intensive care medicine trainee. This has fostered in her an interest in achieving health equity by fostering inclusive working environments. \nTherefore\, in parallel with her clinical training\, she has been involved in medical women’s society activities at a local\, national and international level. This further cemented her passion for health equity and provided invaluable management and leadership experience. \n  \nMeeting Details\nDate: Wed 9 October 2024 \nTime: 7pm \nLocation / Register: Via Zoom\, register here \n AFMWThe Australian Federation of Medical Women (AFMW) is a not for profit\, politically neutral\, non sectarian\, non government organisation that seeks to improve the health of all Australians\, especially the health of women and children. \nEvents and Updates coordination by AFMW\, on behalf of the Australian Federation of Medical Women (AFMW)\, its affiliated Australian state and territory partners and international networks and supporters. If you have an update or event you would like to share with us for Australian medical women\, please contact us with details. Thank you.
URL:https://afmw.org.au/event/spotlight-chat-with-dr-marissa-daniels-9-october/
LOCATION:On-line / Zoom
CATEGORIES:AFMW Hosted,Spotlight Series
ATTACH;FMTTYPE=image/jpeg:https://afmw.org.au/wp-content/uploads/2024/09/spotlight-on-young-afmw-oct-2024.jpg
ORGANIZER;CN="AFMW":MAILTO:afmw@afmw.org.au
END:VEVENT
END:VCALENDAR