BEGIN:VCALENDAR
VERSION:2.0
PRODID:-//Australian Federation of Medical Women - ECPv6.15.20//NONSGML v1.0//EN
CALSCALE:GREGORIAN
METHOD:PUBLISH
X-WR-CALNAME:Australian Federation of Medical Women
X-ORIGINAL-URL:https://afmw.org.au
X-WR-CALDESC:Events for Australian Federation of Medical Women
REFRESH-INTERVAL;VALUE=DURATION:PT1H
X-Robots-Tag:noindex
X-PUBLISHED-TTL:PT1H
BEGIN:VTIMEZONE
TZID:Africa/Cairo
BEGIN:DAYLIGHT
TZOFFSETFROM:+0200
TZOFFSETTO:+0300
TZNAME:EEST
DTSTART:20240425T220000
END:DAYLIGHT
BEGIN:STANDARD
TZOFFSETFROM:+0300
TZOFFSETTO:+0200
TZNAME:EET
DTSTART:20241031T210000
END:STANDARD
BEGIN:DAYLIGHT
TZOFFSETFROM:+0200
TZOFFSETTO:+0300
TZNAME:EEST
DTSTART:20250424T220000
END:DAYLIGHT
BEGIN:STANDARD
TZOFFSETFROM:+0300
TZOFFSETTO:+0200
TZNAME:EET
DTSTART:20251030T210000
END:STANDARD
BEGIN:DAYLIGHT
TZOFFSETFROM:+0200
TZOFFSETTO:+0300
TZNAME:EEST
DTSTART:20260423T220000
END:DAYLIGHT
BEGIN:STANDARD
TZOFFSETFROM:+0300
TZOFFSETTO:+0200
TZNAME:EET
DTSTART:20261029T210000
END:STANDARD
END:VTIMEZONE
BEGIN:VEVENT
DTSTART;VALUE=DATE:20251012
DTEND;VALUE=DATE:20251015
DTSTAMP:20260423T014314
CREATED:20250716T002432Z
LAST-MODIFIED:20250717T061240Z
UID:140794-1760227200-1760486399@afmw.org.au
SUMMARY:2025 MWIA Triennial Congress | 12-14 October
DESCRIPTION:MWIA President’s Welcome Message\nDear Distinguished Delegates\, Colleagues and Friends\,\nIt is with great excitement that I invite you to join us at the the 33rd MWIA International Congress of the Medical Women’s International Association scheduled to take place in October\, 2025\, in Cairo\, Egypt. Founded in 1919\, the Medical Women’s International Association has\, for over a hundred and five years\, directed its efforts and resources to proactively empower women in medicine and to continuously strive to improve the health and wellbeing of women and girls and their communities around the world. \nI salute and value the Local Organizing Committee led by the Egyptian Medical Women’s Association (EMWA) who are working hard to ensure a memorable Congress. The Congress theme aligns with the MWIA President’s Triennial Theme: “One Humanity: Health Solutions through our Partnerships” The passion and dedication of our members and allies towards advancing women’s health globally has gained traction through the fostering of purposeful and strategic partnerships. \nThe Congress will bring together the voices of diverse practitioners and we look forward to rewarding scientific sessions and networking opportunities that will demonstrate the unique and transformative value we bring as medical women to global health. In addition\, Congress participants will be able to explore the architectural and cultural treasures of Egypt and the Nile where there is a confluence ancient and modern civilisations. \nAfter six years of steering the ship of MWIA as President\, I will be preparing to hand over the affairs of our noble Association to the capable\, committed and charismatic MWIA President Elect\, Dr Amany Asfour who will be installed as the 35th President of MWIA. I wish her and the incoming executive committee members the best of blessings. You cannot afford to miss this historic moment. \nSo see you in Egypt 😍 \n \n  \nEleanor Ann Nwadinobi\, MBBS\, EMA\, FAAC\nPresident\, MWIA \n  \n  \nAbout MWIA 2025 Congress\nThe 33rd Medical Women International Association (MWIA) Congress promises to be a transformative gathering\, uniting medical professionals from across the globe to advance women’s health and equity. Discover the vision\, leadership\, and hosts behind this remarkable event. \n  \nCongress Details\nDate: 12-14 October 2025 \nLocation: Hilton Grand Nile Hotel\, Cairo\, Egypt \nRegister: Register here \n  \nMore Information\nVisit the MWIA 2025 Congress website \n  \n AFMWThe Australian Federation of Medical Women (AFMW) is a not for profit\, politically neutral\, non sectarian\, non government organisation that seeks to improve the health of all Australians\, especially the health of women and children. \nEvents and Updates coordination by AFMW\, on behalf of the Australian Federation of Medical Women (AFMW)\, its affiliated Australian state and territory partners and international networks and supporters. If you have an update or event you would like to share with us for Australian medical women\, please contact us with details. Thank you.
URL:https://afmw.org.au/event/2025-mwia-triennial-congress-12-14-october/
LOCATION:Hilton Grand Nile Hotel\, Cairo\, Egypt
CATEGORIES:MWIA,Spotlight Series
ATTACH;FMTTYPE=image/jpeg:https://afmw.org.au/wp-content/uploads/2025/06/2025-mwia-congress-egypt-reminder.jpg
END:VEVENT
END:VCALENDAR