BEGIN:VCALENDAR
VERSION:2.0
PRODID:-//Australian Federation of Medical Women - ECPv6.15.20//NONSGML v1.0//EN
CALSCALE:GREGORIAN
METHOD:PUBLISH
X-ORIGINAL-URL:https://afmw.org.au
X-WR-CALDESC:Events for Australian Federation of Medical Women
REFRESH-INTERVAL;VALUE=DURATION:PT1H
X-Robots-Tag:noindex
X-PUBLISHED-TTL:PT1H
BEGIN:VTIMEZONE
TZID:Australia/Brisbane
BEGIN:STANDARD
TZOFFSETFROM:+1000
TZOFFSETTO:+1000
TZNAME:AEST
DTSTART:20220101T000000
END:STANDARD
END:VTIMEZONE
BEGIN:VTIMEZONE
TZID:Australia/Melbourne
BEGIN:STANDARD
TZOFFSETFROM:+1100
TZOFFSETTO:+1000
TZNAME:AEST
DTSTART:20220402T160000
END:STANDARD
BEGIN:DAYLIGHT
TZOFFSETFROM:+1000
TZOFFSETTO:+1100
TZNAME:AEDT
DTSTART:20221001T160000
END:DAYLIGHT
BEGIN:STANDARD
TZOFFSETFROM:+1100
TZOFFSETTO:+1000
TZNAME:AEST
DTSTART:20230401T160000
END:STANDARD
BEGIN:DAYLIGHT
TZOFFSETFROM:+1000
TZOFFSETTO:+1100
TZNAME:AEDT
DTSTART:20230930T160000
END:DAYLIGHT
BEGIN:STANDARD
TZOFFSETFROM:+1100
TZOFFSETTO:+1000
TZNAME:AEST
DTSTART:20240406T160000
END:STANDARD
BEGIN:DAYLIGHT
TZOFFSETFROM:+1000
TZOFFSETTO:+1100
TZNAME:AEDT
DTSTART:20241005T160000
END:DAYLIGHT
END:VTIMEZONE
BEGIN:VEVENT
DTSTART;TZID=Australia/Brisbane:20230714T143000
DTEND;TZID=Australia/Brisbane:20230716T170000
DTSTAMP:20260424T143822
CREATED:20230625T225024Z
LAST-MODIFIED:20230629T002817Z
UID:137182-1689345000-1689526800@afmw.org.au
SUMMARY:iDEA 2023 Conference
DESCRIPTION:Doctors for the Environment Australia is pleased to announce its annual conference (iDEA) will this year be held at the University of Queensland in Brisbane over three days 14-16th July 2023. Early Bird Tickets are available now (as at 11 April 2023). \nQueensland is thrilled to be hosting for the first time since 2016\, and the iDEA committee look forward to welcoming you. DEA Members are invited to submit an abstract for a poster presentation at the conference. \n  \nABOUT\nThis year’s theme will be “Surviving and Thriving”\, as we aim to adapt to the challenges of the future while prioritising wellbeing in all spheres\, ranging from the individual to planetary. \nOur program commences on Friday 14 July with a 3 hour workshop by the Climate Media Centre\, followed by two days of academic sessions and workshops. \nDetails of our program and speaker profiles will be updated over the coming months and can be accessed on the iDEA Conference website. \n  \nABSTRACT SUBMISSIONS\nDEA Members are invited to submit an abstract for a poster presentation at the conference. The overall theme is ‘Surviving and Thriving’\, and there will be sessions on ecology\, environment and society\, community solutions/health and wellbeing\, health and sustainability and ethics and justice. \nAbstracts are welcome on any aspect of the conference theme. Abstracts should be no longer than 250 words\, not including title and author list. Abstracts should have a title\, author list as well as the 250 word abstract. Abstracts are due on Monday 8th May. If you have any questions\, please contact Linda Selvey at laselvey@gmail.com \n  \nDETAILS\nDate/Time: 14-16th July 2023 \nLocation: University of Queensland in Brisbane \n  \nTO BOOK\nConference tickets are available here. \n  \n  \n AFMWThe Australian Federation of Medical Women (AFMW) is a not for profit\, politically neutral\, non sectarian\, non government organisation that seeks to improve the health of all Australians\, especially the health of women and children. \nEvents and Updates coordination by AFMW\, on behalf of the Australian Federation of Medical Women (AFMW)\, its affiliated Australian state and territory partners and international networks and supporters. If you have an update or event you would like to share with us for Australian medical women\, please contact us with details. Thank you.
URL:https://afmw.org.au/event/idea-2023-conference/
LOCATION:The University of Queensland\, St Lucia\, QLD\, 4072\, Australia
CATEGORIES:Doctors for the Environment Australia
ATTACH;FMTTYPE=image/jpeg:https://afmw.org.au/wp-content/uploads/2023/04/idea-conference-2023.jpg
END:VEVENT
BEGIN:VEVENT
DTSTART;TZID=Australia/Melbourne:20230727T193000
DTEND;TZID=Australia/Melbourne:20230727T203000
DTSTAMP:20260424T143822
CREATED:20230718T053115Z
LAST-MODIFIED:20230718T054017Z
UID:137888-1690486200-1690489800@afmw.org.au
SUMMARY:FRACKING WITH OUR HEALTH\, the health impacts of gas extraction | DEA AfterHours
DESCRIPTION:About The Webinar\nFracking and other forms of gas extraction are known to have multiple detrimental impacts on human health. There are direct impacts from the process itself\, like air and water pollution\, and gas also contributes to global warming and the climate crisis\, which is the greatest health threat facing humanity. \nDespite this\, Gas is big business in Australia. Australia is the largest exporter of LNG in the world and the industry continues to expand into new territory like the Beetaloo Basin and the Scarborough Gas field. \nThis webinar looks at the many serious effects of gas on human health. \nFor children\, this includes birth defects\, childhood cancers and asthma. For adults\, this includes heart failure\, heart attacks\, chronic lung disease\, many cancers and mental illness. These effects are often most felt locally and there is an ongoing struggle for First Nations peoples across this country\, who work to protect their land and communities from harm. \nFacilitated by Dr Kate Wylie\, the webinar will feature experts in this field. \n\nProfessor Melissa Haswell: Professor of Practice in Environmental Wellbeing at the Sydney Uni\,\nMr Jacob Hegedus: Research Assistant\, Deputy Vice Chancellor\, Indigenous Strategy and Services at Sydney Uni and Gumbaygnnirr man from the Northern Rivers whose community fought against fracking of their land and won\, and\nDr Arnagretta Hunter: Human Futures Fellow ANU College Health and Medicine.\n\nJoin for an informative and engaging deep dive into gas and health. \nAfterHours are free\, open to everyone and are CPD accredited activities for RACGP and ACCRM. \n  \nDetails\nDate / Time: 27 July 2023 /  7.30pm AEST \nLocation: Online \n  \nRegister\nVisit theAfterHours event page \n  \n  \n  \n  \n AFMWThe Australian Federation of Medical Women (AFMW) is a not for profit\, politically neutral\, non sectarian\, non government organisation that seeks to improve the health of all Australians\, especially the health of women and children. \nEvents and Updates coordination by AFMW\, on behalf of the Australian Federation of Medical Women (AFMW)\, its affiliated Australian state and territory partners and international networks and supporters. If you have an update or event you would like to share with us for Australian medical women\, please contact us with details. Thank you.
URL:https://afmw.org.au/event/fracking-with-our-health-the-health-impacts-of-gas-extraction-dea-afterhours/
LOCATION:On-line / Zoom
CATEGORIES:Doctors for the Environment Australia
ATTACH;FMTTYPE=image/jpeg:https://afmw.org.au/wp-content/uploads/2023/07/event-afterhours-27-jul-202.jpg
END:VEVENT
END:VCALENDAR