BEGIN:VCALENDAR
VERSION:2.0
PRODID:-//Australian Federation of Medical Women - ECPv6.15.20//NONSGML v1.0//EN
CALSCALE:GREGORIAN
METHOD:PUBLISH
X-WR-CALNAME:Australian Federation of Medical Women
X-ORIGINAL-URL:https://afmw.org.au
X-WR-CALDESC:Events for Australian Federation of Medical Women
REFRESH-INTERVAL;VALUE=DURATION:PT1H
X-Robots-Tag:noindex
X-PUBLISHED-TTL:PT1H
BEGIN:VTIMEZONE
TZID:Australia/Melbourne
BEGIN:STANDARD
TZOFFSETFROM:+1100
TZOFFSETTO:+1000
TZNAME:AEST
DTSTART:20220402T160000
END:STANDARD
BEGIN:DAYLIGHT
TZOFFSETFROM:+1000
TZOFFSETTO:+1100
TZNAME:AEDT
DTSTART:20221001T160000
END:DAYLIGHT
BEGIN:STANDARD
TZOFFSETFROM:+1100
TZOFFSETTO:+1000
TZNAME:AEST
DTSTART:20230401T160000
END:STANDARD
BEGIN:DAYLIGHT
TZOFFSETFROM:+1000
TZOFFSETTO:+1100
TZNAME:AEDT
DTSTART:20230930T160000
END:DAYLIGHT
BEGIN:STANDARD
TZOFFSETFROM:+1100
TZOFFSETTO:+1000
TZNAME:AEST
DTSTART:20240406T160000
END:STANDARD
BEGIN:DAYLIGHT
TZOFFSETFROM:+1000
TZOFFSETTO:+1100
TZNAME:AEDT
DTSTART:20241005T160000
END:DAYLIGHT
END:VTIMEZONE
BEGIN:VEVENT
DTSTART;TZID=Australia/Melbourne:20230912T190000
DTEND;TZID=Australia/Melbourne:20230912T210000
DTSTAMP:20260424T023934
CREATED:20230827T220420Z
LAST-MODIFIED:20230830T021319Z
UID:138051-1694545200-1694552400@afmw.org.au
SUMMARY:Australia’s doctors – driving action on climate change | AMA & DEA
DESCRIPTION:AMA & DEA invite you to attend this year’s webinar on Tuesday 12 September 2023 at 7-9 pm (AEST)\, where presenters will discuss the urgent need for the Australian healthcare sector to act by prioritising the transition away from greenhouse gas emissions and rapidly reducing the healthcare sector’s carbon footprint. \n  \nAbout The Webinar\nAustralia’s leading doctors call on all Australian governments and the healthcare sector to prioritise climate mitigation and adaptation policies to protect the health of present and future generations. \nThe Australian Medical Association and Doctors for the Environment Australia’s annual webinar Australia’s doctors – driving action on climate change brings sustainability experts and the medical colleges together\, to report on activities underway across the medical profession to embed sustainability and reduce emissions in health care. \nThe webinar represents a deep dive into sustainability where we will hear from our Chief Medical Officer\, Prof Paul Kelly who will highlight the work of the National Sustainability Unit and the need for a Health in All Policies approach. He will be joined by the AMA president\, Prof Steve Robson\, DEA’s Chair Dr John Van Der Kallen\, DEA’s Sustainability group co-chair Dr Eugenie Kayak and Dr Kate Charlesworth senior advisor of the Climate Risk & Net Zero Unit at NSW Health. Delegates from multiple medical colleges will outline the sustainability work within their speciality. \nThe human health costs of global heating are rapidly rising\, with ever increasing morbidity and mortality associated with heat waves\, extreme weather events and other climate health impacts\, both in Australia and across the globe. Reducing greenhouse gas emissions and transitioning to renewable energy sources will have immediate health benefits through reducing pollution and many illnesses\, as well as mitigating against future health impacts of climate change. \n  \nDetails\nDate:  12 September 2023 \nTime: 7pm – 9pm AEST \nLocation: Online \n  \nTickets\nSecure your ticket here (free) \n  \n AFMWThe Australian Federation of Medical Women (AFMW) is a not for profit\, politically neutral\, non sectarian\, non government organisation that seeks to improve the health of all Australians\, especially the health of women and children. \nEvents and Updates coordination by AFMW\, on behalf of the Australian Federation of Medical Women (AFMW)\, its affiliated Australian state and territory partners and international networks and supporters. If you have an update or event you would like to share with us for Australian medical women\, please contact us with details. Thank you.
URL:https://afmw.org.au/event/australias-doctors-driving-action-on-climate-change-ama-dea/
LOCATION:On-line / Zoom
CATEGORIES:Doctors for the Environment Australia
ATTACH;FMTTYPE=image/jpeg:https://afmw.org.au/wp-content/uploads/2023/08/event-ama-dea-12-sept-2023.jpg
END:VEVENT
END:VCALENDAR