BEGIN:VCALENDAR
VERSION:2.0
PRODID:-//Australian Federation of Medical Women - ECPv6.15.20//NONSGML v1.0//EN
CALSCALE:GREGORIAN
METHOD:PUBLISH
X-WR-CALNAME:Australian Federation of Medical Women
X-ORIGINAL-URL:https://afmw.org.au
X-WR-CALDESC:Events for Australian Federation of Medical Women
REFRESH-INTERVAL;VALUE=DURATION:PT1H
X-Robots-Tag:noindex
X-PUBLISHED-TTL:PT1H
BEGIN:VTIMEZONE
TZID:Asia/Manila
BEGIN:STANDARD
TZOFFSETFROM:+0800
TZOFFSETTO:+0800
TZNAME:PST
DTSTART:20230101T000000
END:STANDARD
END:VTIMEZONE
BEGIN:VEVENT
DTSTART;VALUE=DATE:20240711
DTEND;VALUE=DATE:20240714
DTSTAMP:20260422T160829
CREATED:20240517T233505Z
LAST-MODIFIED:20240516T034949Z
UID:139434-1720656000-1720915199@afmw.org.au
SUMMARY:MWIA - Western Pacific Regional Conference 2024
DESCRIPTION:The Medical Women’s International Association (MWIA) and Philippine Medical Women’s Association  (PMWA) are hosting the Western Pacific Regional Conference in July this year. The topic of the event is “Empowering Women in Medical Education & Leadership”. \n  \nAbout the Conference\nA National Association of women physicians dedicated in developing the members through the examples of its leadership\, spearheading ways and means toward the upliftment of service to the profession\, members and the community. \nWelcome Message from PMWA President\nMabuhay!\nGreetings from PMWA\, Inc \nIt is my great pleasure to welcome you to the Western Pacific Regional Conference of MWIA in Cebu City\, The Queen City of the South. \nAlong with the MWIA President Eleanor Nwadinobi\, The Secretary-General Mariam Jashi and the Vice-President of Western Pacific Region Bong Ok Kim. \nThe Chair of the scientific committee Dr. Rosa Nancho\, and its members have prepared a well-balanced topics and poster presentation award will be given to the Best Paper Presentation. \nI look forward to seeing you in Cebu City on July 11-13\, 2024 and the meeting will take place in Waterfront Cebu City Hotel. \nThis is the best time to rekindle old friends and meet new ones. Cebu has many things to offer our visitors. Explore the city during your visit. \nTo keep up to date on the meeting\, please bookmark the conference website  \n \n  \nVivina C. Chiu\, MD\nPresident\, PMWA\nOverall Chair\nMWIA – Western Pacific Region Conference \n  \n  \nDetails\nDate: July 11  -13\, 2024 \nLocation: Waterfront Cebu City Hotel. Cebu City Philippines \n  \nRegister / Further Information\nConference Information \nConference Registration \n  \n \n  \n AFMWThe Australian Federation of Medical Women (AFMW) is a not for profit\, politically neutral\, non sectarian\, non government organisation that seeks to improve the health of all Australians\, especially the health of women and children. \nEvents and Updates coordination by AFMW\, on behalf of the Australian Federation of Medical Women (AFMW)\, its affiliated Australian state and territory partners and international networks and supporters. If you have an update or event you would like to share with us for Australian medical women\, please contact us with details. Thank you.
URL:https://afmw.org.au/event/mwia-western-pacific-regional-conference-2024/
LOCATION:Waterfront Cebu City Hotel\, Cebu City\, Philippines
CATEGORIES:MWIA Western Pacific Region
ATTACH;FMTTYPE=image/jpeg:https://afmw.org.au/wp-content/uploads/2024/05/mwia-conf-july-2024.jpg
END:VEVENT
END:VCALENDAR