BEGIN:VCALENDAR
VERSION:2.0
PRODID:-//Australian Federation of Medical Women - ECPv6.15.20//NONSGML v1.0//EN
CALSCALE:GREGORIAN
METHOD:PUBLISH
X-ORIGINAL-URL:https://afmw.org.au
X-WR-CALDESC:Events for Australian Federation of Medical Women
REFRESH-INTERVAL;VALUE=DURATION:PT1H
X-Robots-Tag:noindex
X-PUBLISHED-TTL:PT1H
BEGIN:VTIMEZONE
TZID:Australia/Melbourne
BEGIN:STANDARD
TZOFFSETFROM:+1100
TZOFFSETTO:+1000
TZNAME:AEST
DTSTART:20180331T160000
END:STANDARD
BEGIN:DAYLIGHT
TZOFFSETFROM:+1000
TZOFFSETTO:+1100
TZNAME:AEDT
DTSTART:20181006T160000
END:DAYLIGHT
BEGIN:STANDARD
TZOFFSETFROM:+1100
TZOFFSETTO:+1000
TZNAME:AEST
DTSTART:20190406T160000
END:STANDARD
BEGIN:DAYLIGHT
TZOFFSETFROM:+1000
TZOFFSETTO:+1100
TZNAME:AEDT
DTSTART:20191005T160000
END:DAYLIGHT
BEGIN:STANDARD
TZOFFSETFROM:+1100
TZOFFSETTO:+1000
TZNAME:AEST
DTSTART:20200404T160000
END:STANDARD
BEGIN:DAYLIGHT
TZOFFSETFROM:+1000
TZOFFSETTO:+1100
TZNAME:AEDT
DTSTART:20201003T160000
END:DAYLIGHT
BEGIN:STANDARD
TZOFFSETFROM:+1100
TZOFFSETTO:+1000
TZNAME:AEST
DTSTART:20210403T160000
END:STANDARD
BEGIN:DAYLIGHT
TZOFFSETFROM:+1000
TZOFFSETTO:+1100
TZNAME:AEDT
DTSTART:20211002T160000
END:DAYLIGHT
END:VTIMEZONE
BEGIN:VEVENT
DTSTART;VALUE=DATE:20200518
DTEND;VALUE=DATE:20200524
DTSTAMP:20260422T080431
CREATED:20190924T055801Z
LAST-MODIFIED:20210526T234307Z
UID:9150-1589760000-1590278399@afmw.org.au
SUMMARY:World Health Assembly
DESCRIPTION:The World Health Assembly is scheduled\, to be held in Switzerland.
URL:https://afmw.org.au/event/world-health-assembly/
LOCATION:World Health Organisation Headquarters\, Geneva\, Switzerland
CATEGORIES:World Health Assembly
END:VEVENT
BEGIN:VEVENT
DTSTART;VALUE=DATE:20190520
DTEND;VALUE=DATE:20190529
DTSTAMP:20260422T080431
CREATED:20190924T062421Z
LAST-MODIFIED:20210526T233920Z
UID:9158-1558310400-1559087999@afmw.org.au
SUMMARY:72nd World Health Assembly 2019
DESCRIPTION:The 2019 72nd World Health Assembly scheduled.
URL:https://afmw.org.au/event/72nd-world-health-assembly-2019/
LOCATION:World Health Organisation Headquarters\, Geneva\, Switzerland
CATEGORIES:World Health Assembly
END:VEVENT
END:VCALENDAR