BEGIN:VCALENDAR
VERSION:2.0
PRODID:-//Australian Federation of Medical Women - ECPv6.15.20//NONSGML v1.0//EN
CALSCALE:GREGORIAN
METHOD:PUBLISH
X-ORIGINAL-URL:https://afmw.org.au
X-WR-CALDESC:Events for Australian Federation of Medical Women
REFRESH-INTERVAL;VALUE=DURATION:PT1H
X-Robots-Tag:noindex
X-PUBLISHED-TTL:PT1H
BEGIN:VTIMEZONE
TZID:Europe/Helsinki
BEGIN:DAYLIGHT
TZOFFSETFROM:+0200
TZOFFSETTO:+0300
TZNAME:EEST
DTSTART:20220327T010000
END:DAYLIGHT
BEGIN:STANDARD
TZOFFSETFROM:+0300
TZOFFSETTO:+0200
TZNAME:EET
DTSTART:20221030T010000
END:STANDARD
BEGIN:DAYLIGHT
TZOFFSETFROM:+0200
TZOFFSETTO:+0300
TZNAME:EEST
DTSTART:20230326T010000
END:DAYLIGHT
BEGIN:STANDARD
TZOFFSETFROM:+0300
TZOFFSETTO:+0200
TZNAME:EET
DTSTART:20231029T010000
END:STANDARD
BEGIN:DAYLIGHT
TZOFFSETFROM:+0200
TZOFFSETTO:+0300
TZNAME:EEST
DTSTART:20240331T010000
END:DAYLIGHT
BEGIN:STANDARD
TZOFFSETFROM:+0300
TZOFFSETTO:+0200
TZNAME:EET
DTSTART:20241027T010000
END:STANDARD
END:VTIMEZONE
BEGIN:VEVENT
DTSTART;TZID=Europe/Helsinki:20230421T083000
DTEND;TZID=Europe/Helsinki:20230421T180000
DTSTAMP:20260426T053448
CREATED:20230411T075159Z
LAST-MODIFIED:20230413T010454Z
UID:137125-1682065800-1682100000@afmw.org.au
SUMMARY:MWIA Southern Europe Conference
DESCRIPTION:On April 21st MWIA Southern Europe MWIA is hosting a full day conference. Whilst I’d love to have attended in person\, I am equally pleased to be invited to present the findings online based upon the MWIA Covid -19 survey undertaken with my co- investigators  Professor Antonella Vezzani (Italy immed. Past Vice President (VP) MWIA Southern Europe) and Professor Magda Carneiro Sampaio ( Brazil) immed. Past VP Latin America. \nPolicy change recommendations taken from findings of the MWIA survey of COVID-19 experiences of women doctors as healthcare providers – Dr. Magdalena Simonis (Australia) – President Australian Federation of Medical Women – Associate Professor of Melbourne University \nPlease join us in Italy! \nA/Prof Magdalena Simonis \n  \nABOUT\nTOPIC: Post pandemic era: What direction for health policies?\n \nh 08:30 Registration  \nh 08:40 Opening session: Critical care and rehabilitation issues during the pandemic: the importance of digital innovation – dr. Concetta Laurentaci MWIA Southern Europe Vice President (Italy) \nh 08:55 Greetings of Madame President of MWIA – Dr. Eleanor Nwandinobi (Nigeria) \nh 09:00 Greetings of Madame Secretariat General of MWIA – Dr. Mariam Jashi (Georgia) \nh 9:05 Lectures \nModerators: dr. Concetta Laurentaci (VP MWIA for Southern Europe) and dr. Antonella Vezzani (National President of Italian Medical Women) \n09:15 Introducing the new European Project VIPROM: Improving knowledge of medical staff on domestic violence by developing an European and national training curricula\nDr. Bettina Pfleiderer (Germany) – Former MWIA past President – Ordinary Professor of Munster University \n09:30 Sweden´s way of coping with the pandemic: during and after the crisis\nDr. Elizabeth Lichtenstein (Sweeden) – vice-President MWIA for Northern Europe \nh 09:45  Lessons from the Pandemic: a Central European perspective\nDr. Edith Schratzberger-Vécsei (Austria) – vice-President MWIA for Central Europe \nh 10:00 Policy change recommendations taken from findings of the  MWIA survey of COVID-19 experiences of women doctors as healthcare providers\nDr. Magdalena Simonis (Australia) – President Australian Federation of Medical Women – Associate Professor of Melbourne University \nh 10:15 Health and adolescence after the global pandemic\nDr. Silvana Capasso (Italy) – Italy National Coordinator for MWIA \nh 10:30 – 10:45 Discussion and conclusions. \nThe Regional Congress will be held by web connection through the GOTOMEETING platform: https://meet.goto.com/623171597. \nThe MWIA Southern Europe Regional Congress will be held in English\, without translation. \nSouthern Europe Business meeting:  h 10:45 – 11:30 CEST (GMT +02:00) \nThe business meeting will be held by web connection through the GOTOMEETING platform: https://meet.goto.com/623171597 (only for Southern Europe members) \n  \nDETAILS\nDate/Time: Catania April 21\, 2023 from 8:30 a.m. CEST (GMT +02:00) \nLocation: The Regional Congress will be held by web connection through the GOTOMEETING platform \n  \n  \n  \n  \n Dr Madhura Naidu\, AFMW Vice PresidentDr Madhura Naidu is an Intensive Care Registrar and trainee with the College of Intensive Care Medicine with over a decade of multidisciplinary clinical experience spanning ICU\, anaesthesia\, surgery and palliative care. She brings a comprehensive clinical skillset and a systems-based perspective to critical care\, grounded in evidence-based\, compassionate and patient-centred practice. \nShe is particularly passionate about the strategic integration of AI and digital health in medicine as tools to streamline workflows\, empower clinicians\, and improve patient outcomes in real-world settings. \nBeyond the bedside\, Madhura is an intersectional feminist and long-time advocate for gender equity and clinician wellbeing. She currently serves as Vice-President of the Australian Federation of Medical Women (AFMW) — the only national organisation exclusively representing the women and non-binary medical workforce — following a three-year tenure as President of the Victorian Medical Women’s Society. \nA lifelong learner\, Madhura is driven by adaptability\, innovation\, and building efficient\, future-focused solutions across clinical\, organisational and digital health settings.
URL:https://afmw.org.au/event/mwia-southern-europe-conference/
LOCATION:On-line / Zoom
CATEGORIES:MWIA
ATTACH;FMTTYPE=image/jpeg:https://afmw.org.au/wp-content/uploads/2023/03/mwia-southern-europe-conf.jpg
END:VEVENT
END:VCALENDAR